BEGIN:VCALENDAR
VERSION:2.0
PRODID:-//ddaysoftware.com//NONSGML DDay.iCal 1.0//EN
BEGIN:VEVENT
DESCRIPTION:\n	\n	Canopy Realtor(R) Association\, in partnership with the A
 sian Real Estate Association of America (AREAA) Charlotte Metro and theCar
 olinas Asian-American\n	Chamber of Commerce (CAACC) invites you to an excl
 usive and timely luncheonTaste of Asiafeaturing national leadership\,\n	gr
 oundbreaking research\, and a powerful community dialogue.\n	\n	\n	\n	\n	\
 n	\n		\n			Thurs.\, May 21\, 2026\n		\n			\n				11-11:30 a.m.Registration 
 and Lunch\n			\n				11:30-1 p.m.Program\n			\n				LocationCanopy Realtor(R
 ) Association\, 1120 Pearl Park Way\, Charlotte\, NC 28204\n		\n	\n	\n		\n
 		AREAA National\, in collaboration with the Urban Institute\, has release
 d a landmark report:\n		AANHPI Homeownership and Wealth-Building Trajector
 ies: From Accumulation and Preservation to Intergenerational Transfer over
  the Life Course\n	\n		AREAA National CEO\, Hope Atuelwill present key fin
 dings and insights from this research\, offering a deeper understanding of
  how Asian American\, Native Hawaiian\, and Pacific Islander (AANHPI) comm
 unities build\, sustain\, and transfer wealth through homeownershipand whe
 re critical barriers remain.This conversation goes beyond the data to expl
 ore real-world impact and local relevance\, featuring a panel of local lea
 ders and industry experts.\n	\n		Join us for meaningful dialogue\, powerfu
 l insights\, and an opportunity to celebrate culture\, community\, and con
 nections.\n	\n		Registration | Cancellations | No-Shows\n	\n		\n			Seats a
 relimited. We encourage early registration.\n		\n			This event is for Cano
 py Realtor(R) Association members only (primary and secondary members)  no
  charge\; however\, a $25 no-show fee will be assessed for no-shows who do
  not cancel before the event by May 19.\n		\n			This event is intended for
  adult attendees only. Children will not be permitted to attend.\n		\n			T
 his is event is brought to you by Canopys Diversity and Inclusion Alliance
 \, Canopy Global and AREAA Charlotte Metro.\n		\n			\n			\n				Questions?C
 ontact Karyn Lindsey atklindsey@canopyrealtors.comor 704-940-3116.\n			\n	
 		\n				\n		\n	\n	\n	\n		\n	\n	\n	\n	\n	\n	\n	\n	\n	\n	\n	\n	\n	\n	\n	\n
DTEND:20260521T130000
DTSTAMP:20260424T121335
DTSTART:20260521T110000
LOCATION:Canopy Realtor® Association\, 1120 Pearl Park Way\, Charlotte\, NC
  28204
SEQUENCE:0
SUMMARY:Taste of Asia: Leadership Luncheon on Homeownership\, Wealth & The 
 Future with AREAA Charlotte Metro
UID:6b294160-ca5e-48ce-9059-eee267d19df2
END:VEVENT
END:VCALENDAR
